BEGIN:VCALENDAR
PRODID:-//Secretariat of the European Council//HU
VERSION:2.0
METHOD:PUBLISH
BEGIN:VEVENT
DTSTART;TZID=Europe/Brussels:20211116T150000
DTEND;TZID=Europe/Brussels:20211117T170000
ORGANIZER;CN=Gazdaságfejlesztési és Technológiai Minisztérium
UID:925f5225-3d18-4b5f-ae2b-7721f228eb13
X-ALT-DESC;FMTTYPE=text/html:<!DOCTYPE HTML PUBLIC "-//W3C//DTD HTML 3.2//EN"><HTML><HEAD>
                                    </HEAD><BODY><span style="font-family: Open Sans;font-size: 9pt;"><p><b>SZERVEZŐ</b><br>Gazdaságfejlesztési és Technológiai Minisztérium</p><p><b>HELYSZÍN</b><br>JGZ Brdo</p><p><b>CÍM</b><br>Predoslje 39<br>Kranj<br>Szlovénia</p><p><a href="https://goo.gl/maps/oR8GBicsXFLnaJmG7">Helyszín</a><hr><br>bővebben https://slovenian-presidency.consilium.europa.eu/hu/esemenyek/europai-turisztikai-forum-a-turisztikai-miniszterek-informalis-ulesevel/</span></BODY></HTML>
LOCATION:Predoslje 39\,Kranj\,Szlovénia
URL:https://slovenian-presidency.consilium.europa.eu/hu/esemenyek/europai-turisztikai-forum-a-turisztikai-miniszterek-informalis-ulesevel/
SEQUENCE:0
STATUS:CONFIRMED
SUMMARY:Európai Turisztikai Fórum a turisztikai miniszterek informális ülésével
TRANSP:TRANSPARENT
END:VEVENT
END:VCALENDAR
