BEGIN:VCALENDAR
PRODID:-//Secretariat of the European Council//HU
VERSION:2.0
METHOD:PUBLISH
BEGIN:VEVENT
DTSTART;TZID=Europe/Brussels:20211122T100000
DTEND;TZID=Europe/Brussels:20211125T180000
ORGANIZER;CN=Európai Parlament 
UID:2d84d03a-e040-4807-852e-c13f314a879e
X-ALT-DESC;FMTTYPE=text/html:<!DOCTYPE HTML PUBLIC "-//W3C//DTD HTML 3.2//EN"><HTML><HEAD>
                                    </HEAD><BODY><span style="font-family: Open Sans;font-size: 9pt;"><p><b>SZERVEZŐ</b><br>Európai Parlament </p><p><b>HELYSZÍN</b><br>Louise Weiss building</p><p><b>CÍM</b><br>1 Avenue du Président Robert Schuman<br>67000 Strasbourg<br>Franciaország</p><p><a href="https://goo.gl/maps/R3Z8MdR24US7rkEw9">Helyszín</a><hr><br>bővebben https://slovenian-presidency.consilium.europa.eu/hu/esemenyek/europai-parlament-plenaris-ules-22-25-11/</span></BODY></HTML>
LOCATION:1 Avenue du Président Robert Schuman\,67000 Strasbourg\,Franciaország
URL:https://slovenian-presidency.consilium.europa.eu/hu/esemenyek/europai-parlament-plenaris-ules-22-25-11/
SEQUENCE:0
STATUS:CONFIRMED
SUMMARY:Európai Parlament Plenáris ülés
TRANSP:TRANSPARENT
END:VEVENT
END:VCALENDAR
