BEGIN:VCALENDAR
PRODID:-//Secretariat of the European Council//HU
VERSION:2.0
METHOD:PUBLISH
BEGIN:VEVENT
DTSTART;TZID=Europe/Brussels:20210831T130000
DTEND;TZID=Europe/Brussels:20210831T180000
ORGANIZER;CN=Az Európai Unió Tanácsa
UID:a9158edc-5b35-4eed-82fa-ce83b6efd1fe
X-ALT-DESC;FMTTYPE=text/html:<!DOCTYPE HTML PUBLIC "-//W3C//DTD HTML 3.2//EN"><HTML><HEAD>
                                    </HEAD><BODY><span style="font-family: Open Sans;font-size: 9pt;"><p><b>SZERVEZŐ</b><br>Az Európai Unió Tanácsa</p><p><b>HELYSZÍN</b><br>Europa Building</p><p><b>CÍM</b><br>Rue de la Loi/Wetstraat 175<br>1048 Brüsszel<br>Belgium</p><p><a href="https://goo.gl/maps/L1uUiTuhGPCmus336">Helyszín</a><hr><br>bővebben https://slovenian-presidency.consilium.europa.eu/hu/esemenyek/bel-es-igazsagugyi-tanacs/</span></BODY></HTML>
LOCATION:Rue de la Loi/Wetstraat 175\,1048 Brüsszel\,Belgium
URL:https://slovenian-presidency.consilium.europa.eu/hu/esemenyek/bel-es-igazsagugyi-tanacs/
SEQUENCE:0
STATUS:CONFIRMED
SUMMARY:Bel- és Igazságügyi Tanács
TRANSP:TRANSPARENT
END:VEVENT
END:VCALENDAR
