BEGIN:VCALENDAR
PRODID:-//Secretariat of the European Council//HU
VERSION:2.0
METHOD:PUBLISH
BEGIN:VEVENT
DTSTART;TZID=Europe/Brussels:20210722T190000
DTEND;TZID=Europe/Brussels:20210723T160000
ORGANIZER;CN=Szlovén elnökség
UID:8ad91e21-6bd5-478e-99d4-9bbdc279b8f7
X-ALT-DESC;FMTTYPE=text/html:<!DOCTYPE HTML PUBLIC "-//W3C//DTD HTML 3.2//EN"><HTML><HEAD>
                                    </HEAD><BODY><span style="font-family: Open Sans;font-size: 9pt;"><p><b>SZERVEZŐ</b><br>Szlovén elnökség</p><p><b>HELYSZÍN</b><br>Kongresni center Brdo</p><p><b>CÍM</b><br>Predoslje 39<br>4000 Kranj<br>Szlovénia</p><p><a href="https://goo.gl/maps/U2Ch8m77Xy6M6uNMA">Helyszín</a><hr><br>bővebben https://slovenian-presidency.consilium.europa.eu/hu/esemenyek/az-europa-ugyi-miniszterek-nem-hivatalos-talalkozoja-23-07/</span></BODY></HTML>
LOCATION:Predoslje 39\,4000 Kranj\,Szlovénia
URL:https://slovenian-presidency.consilium.europa.eu/hu/esemenyek/az-europa-ugyi-miniszterek-nem-hivatalos-talalkozoja-23-07/
SEQUENCE:0
STATUS:CONFIRMED
SUMMARY:Az Európa-ügyi miniszterek nem hivatalos találkozója
TRANSP:TRANSPARENT
END:VEVENT
END:VCALENDAR
