BEGIN:VCALENDAR
PRODID:-//Secretariat of the European Council//HU
VERSION:2.0
METHOD:PUBLISH
BEGIN:VEVENT
DTSTART;TZID=Europe/Brussels:20210902T090000
DTEND;TZID=Europe/Brussels:20210903T150000
ORGANIZER;CN=Közigazgatási Minisztérium
UID:87c5e3ac-e0f9-407c-a7ab-5d7868eda5c8
X-ALT-DESC;FMTTYPE=text/html:<!DOCTYPE HTML PUBLIC "-//W3C//DTD HTML 3.2//EN"><HTML><HEAD>
                                    </HEAD><BODY><span style="font-family: Open Sans;font-size: 9pt;"><p><b>SZERVEZŐ</b><br>Közigazgatási Minisztérium</p><p><b>HELYSZÍN</b><br>Grad Jable</p><p><b>CÍM</b><br>Loka pri Mengšu<br>1234 Mengeš Ljubljana<br>Szlovénia</p><p><a href="https://goo.gl/maps/8GKXoWwMkW54qXJ4A">Helyszín</a><hr><br>bővebben https://slovenian-presidency.consilium.europa.eu/hu/esemenyek/a-szamitastechnikai-kerdesekkel-foglalkozo-horizontalis-munkacsoport-tanacsadoinak-ulese/</span></BODY></HTML>
LOCATION:Loka pri Mengšu\,1234 Mengeš Ljubljana\,Szlovénia
URL:https://slovenian-presidency.consilium.europa.eu/hu/esemenyek/a-szamitastechnikai-kerdesekkel-foglalkozo-horizontalis-munkacsoport-tanacsadoinak-ulese/
SEQUENCE:0
STATUS:CONFIRMED
SUMMARY:A számítástechnikai kérdésekkel foglalkozó horizontális munkacsoport tanácsadóinak ülése
TRANSP:TRANSPARENT
END:VEVENT
END:VCALENDAR
