BEGIN:VCALENDAR
PRODID:-//Secretariat of the European Council//HU
VERSION:2.0
METHOD:PUBLISH
BEGIN:VEVENT
DTSTART;TZID=Europe/Brussels:20211126T090000
DTEND;TZID=Europe/Brussels:20211126T180000
ORGANIZER;CN=Johan Skytt Politikai Tudományok Intézete, Tartui Egyetem, az Európai Bizottság társfinanszírozásával, az Európai Unió Tanácsának szlovén elnökségének égisze alatt.
UID:7753928f-5739-486d-b799-c58cefe31c3d
X-ALT-DESC;FMTTYPE=text/html:<!DOCTYPE HTML PUBLIC "-//W3C//DTD HTML 3.2//EN"><HTML><HEAD>
                                    </HEAD><BODY><span style="font-family: Open Sans;font-size: 9pt;"><p><b>SZERVEZŐ</b><br>Johan Skytt Politikai Tudományok Intézete, Tartui Egyetem, az Európai Bizottság társfinanszírozásával, az Európai Unió Tanácsának szlovén elnökségének égisze alatt.</p><p><b>HELYSZÍN</b><br>Univerza v Tartuju, Center Delta</p><p><b>CÍM</b><br>Narva mnt 18<br>51009 Tartu Tartu<br>Észtország</p><p><a href="https://goo.gl/maps/5VLpQMhZSDiyg6vn7">Helyszín</a><hr><br>bővebben https://slovenian-presidency.consilium.europa.eu/hu/esemenyek/3-konferencia-az-e-demokraciarol-e-kormanyzasrol-a-keleti-partnersegben-dezinformacio-a-digitalis-korban/</span></BODY></HTML>
LOCATION:Narva mnt 18\,51009 Tartu Tartu\,Észtország
URL:https://slovenian-presidency.consilium.europa.eu/hu/esemenyek/3-konferencia-az-e-demokraciarol-e-kormanyzasrol-a-keleti-partnersegben-dezinformacio-a-digitalis-korban/
SEQUENCE:0
STATUS:CONFIRMED
SUMMARY:3. konferencia az e-demokráciáról / e-kormányzásról a keleti partnerségben „Dezinformáció a digitális korban”
TRANSP:TRANSPARENT
END:VEVENT
END:VCALENDAR
