BEGIN:VCALENDAR
PRODID:-//Secretariat of the European Council//FR
VERSION:2.0
METHOD:PUBLISH
BEGIN:VEVENT
DTSTART;TZID=Europe/Brussels:20210720T090000
DTEND;TZID=Europe/Brussels:20210721T133000
ORGANIZER;CN=Ministère des Finances
UID:bc216e04-75b0-49c3-ba65-f61980604d5b
X-ALT-DESC;FMTTYPE=text/html:<!DOCTYPE HTML PUBLIC "-//W3C//DTD HTML 3.2//EN"><HTML><HEAD>
                                    </HEAD><BODY><span style="font-family: Open Sans;font-size: 9pt;"><p><b>ORGANISATEUR</b><br>Ministère des Finances</p><p><b>LIEU</b><br>Grand Hotel Primus</p><p><b>ADRESSE</b><br>Pot v Toplice 9 <br>2251 Ptuj Ptuj<br>Slovénie</p><p><a href="https://goo.gl/maps/HxzU3NupQW51rAf17">Lieu</a><hr><br>Lire plus https://slovenian-presidency.consilium.europa.eu/fr/evenements/seminaire-de-haut-niveau-sur-les-impots-20-21-7/</span></BODY></HTML>
LOCATION:Pot v Toplice 9 \,2251 Ptuj Ptuj\,Slovénie
URL:https://slovenian-presidency.consilium.europa.eu/fr/evenements/seminaire-de-haut-niveau-sur-les-impots-20-21-7/
SEQUENCE:0
STATUS:CONFIRMED
SUMMARY:Séminaire de haut niveau sur les impôts
TRANSP:TRANSPARENT
END:VEVENT
END:VCALENDAR
