BEGIN:VCALENDAR
PRODID:-//Secretariat of the European Council//FR
VERSION:2.0
METHOD:PUBLISH
BEGIN:VEVENT
DTSTART;TZID=Europe/Brussels:20210708T090000
DTEND;TZID=Europe/Brussels:20210709T140000
ORGANIZER;CN=Ministere du Travail, de la Famille, des Affaires sociales et de l'Égalité des chances
UID:8c89de47-241a-48cb-8d20-c76ad326b82f
X-ALT-DESC;FMTTYPE=text/html:<!DOCTYPE HTML PUBLIC "-//W3C//DTD HTML 3.2//EN"><HTML><HEAD>
                                    </HEAD><BODY><span style="font-family: Open Sans;font-size: 9pt;"><p><b>ORGANISATEUR</b><br>Ministere du Travail, de la Famille, des Affaires sociales et de l'Égalité des chances</p><p><b>LIEU</b><br>Kongresni center Brdo</p><p><b>ADRESSE</b><br>Predoslje 39<br>4000 Kranj<br>Slovénie</p><p><a href="https://goo.gl/maps/U2Ch8m77Xy6M6uNMA">Lieu</a><hr><br>Lire plus https://slovenian-presidency.consilium.europa.eu/fr/evenements/reunion-informelle-des-ministres-de-l-emploi-et-des-affaires-sociales-08-09-07/</span></BODY></HTML>
LOCATION:Predoslje 39\,4000 Kranj\,Slovénie
URL:https://slovenian-presidency.consilium.europa.eu/fr/evenements/reunion-informelle-des-ministres-de-l-emploi-et-des-affaires-sociales-08-09-07/
SEQUENCE:0
STATUS:CONFIRMED
SUMMARY:Réunion informelle des ministres de l’emploi et de la politique sociale
TRANSP:TRANSPARENT
END:VEVENT
END:VCALENDAR
