BEGIN:VCALENDAR
PRODID:-//Secretariat of the European Council//FR
VERSION:2.0
METHOD:PUBLISH
BEGIN:VEVENT
DTSTART;TZID=Europe/Brussels:20210902T090000
DTEND;TZID=Europe/Brussels:20210903T150000
ORGANIZER;CN=Ministère de la Fonction publique
UID:506b4235-ae8e-4b6b-b3ac-b1a939645886
X-ALT-DESC;FMTTYPE=text/html:<!DOCTYPE HTML PUBLIC "-//W3C//DTD HTML 3.2//EN"><HTML><HEAD>
                                    </HEAD><BODY><span style="font-family: Open Sans;font-size: 9pt;"><p><b>ORGANISATEUR</b><br>Ministère de la Fonction publique</p><p><b>LIEU</b><br>Grad Jable</p><p><b>ADRESSE</b><br>Loka pri Mengšu<br>1234 Mengeš Ljubljana<br>Slovénie</p><p><a href="https://goo.gl/maps/8GKXoWwMkW54qXJ4A">Lieu</a><hr><br>Lire plus https://slovenian-presidency.consilium.europa.eu/fr/evenements/reunion-des-attaches-du-groupe-horizontal-questions-liees-au-cyberespace/</span></BODY></HTML>
LOCATION:Loka pri Mengšu\,1234 Mengeš Ljubljana\,Slovénie
URL:https://slovenian-presidency.consilium.europa.eu/fr/evenements/reunion-des-attaches-du-groupe-horizontal-questions-liees-au-cyberespace/
SEQUENCE:0
STATUS:CONFIRMED
SUMMARY:Réunion des attachés du groupe horizontal « Questions liées au cyberespace »
TRANSP:TRANSPARENT
END:VEVENT
END:VCALENDAR
