BEGIN:VCALENDAR
PRODID:-//Secretariat of the European Council//FR
VERSION:2.0
METHOD:PUBLISH
BEGIN:VEVENT
DTSTART;TZID=Europe/Brussels:20210831T130000
DTEND;TZID=Europe/Brussels:20210831T180000
UID:dbce6873-7509-4ac4-820f-740959285f87
X-ALT-DESC;FMTTYPE=text/html:<!DOCTYPE HTML PUBLIC "-//W3C//DTD HTML 3.2//EN"><HTML><HEAD>
                                    </HEAD><BODY><span style="font-family: Open Sans;font-size: 9pt;"><p><b>LIEU</b><br>Europa Building</p><p><b>ADRESSE</b><br>Rue de la Loi/Wetstraat 175<br>1048 Bruxelles<br>Belgique</p><p><a href="https://goo.gl/maps/L1uUiTuhGPCmus336">Lieu</a><hr><br>Lire plus https://slovenian-presidency.consilium.europa.eu/fr/evenements/conseil-justice-et-affaires-interieures/</span></BODY></HTML>
LOCATION:Rue de la Loi/Wetstraat 175\,1048 Bruxelles\,Belgique
URL:https://slovenian-presidency.consilium.europa.eu/fr/evenements/conseil-justice-et-affaires-interieures/
SEQUENCE:0
STATUS:CONFIRMED
SUMMARY:Conseil “Justice et affaires intérieures”
TRANSP:TRANSPARENT
END:VEVENT
END:VCALENDAR
