BEGIN:VCALENDAR
PRODID:-//Secretariat of the European Council//FR
VERSION:2.0
METHOD:PUBLISH
BEGIN:VEVENT
DTSTART;TZID=Europe/Brussels:20211201T200000
DTEND;TZID=Europe/Brussels:20211203T170000
ORGANIZER;CN=Ministère de l'Intérieur, Ministère de la Justice 
UID:556cfc29-57a3-406e-a688-9177f1b49763
X-ALT-DESC;FMTTYPE=text/html:<!DOCTYPE HTML PUBLIC "-//W3C//DTD HTML 3.2//EN"><HTML><HEAD>
                                    </HEAD><BODY><span style="font-family: Open Sans;font-size: 9pt;"><p><b>ORGANISATEUR</b><br>Ministère de l'Intérieur, Ministère de la Justice </p><p><b>LIEU</b><br>JGZ Brdo</p><p><b>ADRESSE</b><br>Predoslje 39<br>Kranj<br>Slovénie</p><p><a href="https://goo.gl/maps/sy1FApJGUEkCPiEM8">Lieu</a><hr><br>Lire plus https://slovenian-presidency.consilium.europa.eu/fr/evenements/conference-ministerielle-ue-balkans-occidentaux-sur-la-justice-et-les-affaires-interieures/</span></BODY></HTML>
LOCATION:Predoslje 39\,Kranj\,Slovénie
URL:https://slovenian-presidency.consilium.europa.eu/fr/evenements/conference-ministerielle-ue-balkans-occidentaux-sur-la-justice-et-les-affaires-interieures/
SEQUENCE:0
STATUS:CONFIRMED
SUMMARY:Conférence ministérielle UE-Balkans occidentaux sur la justice et les affaires intérieures
TRANSP:TRANSPARENT
END:VEVENT
END:VCALENDAR
