BEGIN:VCALENDAR
PRODID:-//Secretariat of the European Council//FR
VERSION:2.0
METHOD:PUBLISH
BEGIN:VEVENT
DTSTART;TZID=Europe/Brussels:20210924T083000
DTEND;TZID=Europe/Brussels:20210924T170000
ORGANIZER;CN=Ministère de l'Éducation, des Sciences et des Sports
UID:5082e5cd-6944-446c-842f-80b02bf3f863
X-ALT-DESC;FMTTYPE=text/html:<!DOCTYPE HTML PUBLIC "-//W3C//DTD HTML 3.2//EN"><HTML><HEAD>
                                    </HEAD><BODY><span style="font-family: Open Sans;font-size: 9pt;"><p><b>ORGANISATEUR</b><br>Ministère de l'Éducation, des Sciences et des Sports</p><p><b>LIEU</b><br>Rikli Balance Hotel</p><p><b>ADRESSE</b><br>Cankarjeva cesta 4<br>4260 Bled<br>Slovénie</p><p><a href="https://goo.gl/maps/er1LKp5Vp7BHsJd59">Lieu</a><hr><br>Lire plus https://slovenian-presidency.consilium.europa.eu/fr/evenements/conference-activite-physique-tout-au-long-de-la-vie/</span></BODY></HTML>
LOCATION:Cankarjeva cesta 4\,4260 Bled\,Slovénie
URL:https://slovenian-presidency.consilium.europa.eu/fr/evenements/conference-activite-physique-tout-au-long-de-la-vie/
SEQUENCE:0
STATUS:CONFIRMED
SUMMARY:Conférence « Activité physique tout au long de la vie »
TRANSP:TRANSPARENT
END:VEVENT
END:VCALENDAR
