BEGIN:VCALENDAR
PRODID:-//Secretariat of the European Council//FR
VERSION:2.0
METHOD:PUBLISH
BEGIN:VEVENT
DTSTART;TZID=Europe/Brussels:20211123T080000
DTEND;TZID=Europe/Brussels:20211124T170000
ORGANIZER;CN=Ministère de la Défense
UID:600e9ebb-d5b3-464b-93b6-7dc88282eb88
X-ALT-DESC;FMTTYPE=text/html:<!DOCTYPE HTML PUBLIC "-//W3C//DTD HTML 3.2//EN"><HTML><HEAD>
                                    </HEAD><BODY><span style="font-family: Open Sans;font-size: 9pt;"><p><b>ORGANISATEUR</b><br>Ministère de la Défense</p><p><b>LIEU</b><br>Grand Hotel Union</p><p><b>ADRESSE</b><br>Miklošičeva cesta 1<br>1000 Ljubljana<br>Slovénie</p><p><a href="https://goo.gl/maps/3RMQhJQbmNfXrZDG8">Lieu</a><hr><br>Lire plus https://slovenian-presidency.consilium.europa.eu/fr/evenements/8e-reunion-des-points-de-contact-nationaux-de-l-ue-cellules-de-fusion-hybrides/</span></BODY></HTML>
LOCATION:Miklošičeva cesta 1\,1000 Ljubljana\,Slovénie
URL:https://slovenian-presidency.consilium.europa.eu/fr/evenements/8e-reunion-des-points-de-contact-nationaux-de-l-ue-cellules-de-fusion-hybrides/
SEQUENCE:0
STATUS:CONFIRMED
SUMMARY:8e réunion des points de contact nationaux de l'UE : Cellules de fusion hybrides
TRANSP:TRANSPARENT
END:VEVENT
END:VCALENDAR
