BEGIN:VCALENDAR
PRODID:-//Secretariat of the European Council//DE
VERSION:2.0
METHOD:PUBLISH
BEGIN:VEVENT
DTSTART;TZID=Europe/Brussels:20210902T090000
DTEND;TZID=Europe/Brussels:20210903T150000
ORGANIZER;CN=Ministerium für öffentliche Verwaltung 
UID:25a11819-0196-48d0-9dd5-d7fbfd5634d4
X-ALT-DESC;FMTTYPE=text/html:<!DOCTYPE HTML PUBLIC "-//W3C//DTD HTML 3.2//EN"><HTML><HEAD>
                                    </HEAD><BODY><span style="font-family: Open Sans;font-size: 9pt;"><p><b>VERANSTALTER</b><br>Ministerium für öffentliche Verwaltung </p><p><b>VERANSTALTUNGSORT</b><br>Grad Jable</p><p><b>ADRESSE</b><br>Loka pri Mengšu<br>1234 Mengeš Ljubljana<br>Slowenien</p><p><a href="https://goo.gl/maps/8GKXoWwMkW54qXJ4A">Ort</a><hr><br>Mehr https://slovenian-presidency.consilium.europa.eu/de/veranstaltungen/treffen-von-beraterinnen-und-berater-der-horizontalen-gruppe-fur-cyber-sicherheitsfragen/</span></BODY></HTML>
LOCATION:Loka pri Mengšu\,1234 Mengeš Ljubljana\,Slowenien
URL:https://slovenian-presidency.consilium.europa.eu/de/veranstaltungen/treffen-von-beraterinnen-und-berater-der-horizontalen-gruppe-fur-cyber-sicherheitsfragen/
SEQUENCE:0
STATUS:CONFIRMED
SUMMARY:Treffen von Beraterinnen und Berater der horizontalen Gruppe für Cyber-Sicherheitsfragen
TRANSP:TRANSPARENT
END:VEVENT
END:VCALENDAR
