BEGIN:VCALENDAR
PRODID:-//Secretariat of the European Council//DE
VERSION:2.0
METHOD:PUBLISH
BEGIN:VEVENT
DTSTART;TZID=Europe/Brussels:20211111T080000
DTEND;TZID=Europe/Brussels:20211112T170000
ORGANIZER;CN=Finanzministerium
UID:49dbf4cc-9cbc-4996-9d3f-2d3a97ed2a1d
X-ALT-DESC;FMTTYPE=text/html:<!DOCTYPE HTML PUBLIC "-//W3C//DTD HTML 3.2//EN"><HTML><HEAD>
                                    </HEAD><BODY><span style="font-family: Open Sans;font-size: 9pt;"><p><b>VERANSTALTER</b><br>Finanzministerium</p><p><b>VERANSTALTUNGSORT</b><br>Hotel Lev</p><p><b>ADRESSE</b><br>Vošnjakova ulica 1<br>Ljubljana<br>Slowenien</p><p><a href="https://g.page/hotellevljubljana?share">Ort</a><hr><br>Mehr https://slovenian-presidency.consilium.europa.eu/de/veranstaltungen/treffen-der-leiterinnen-und-leiter-der-steuerverwaltungen-eu-tadeus-2021/</span></BODY></HTML>
LOCATION:Vošnjakova ulica 1\,Ljubljana\,Slowenien
URL:https://slovenian-presidency.consilium.europa.eu/de/veranstaltungen/treffen-der-leiterinnen-und-leiter-der-steuerverwaltungen-eu-tadeus-2021/
SEQUENCE:0
STATUS:CONFIRMED
SUMMARY:Treffen der Leiterinnen und Leiter der Steuerverwaltungen EU-TADEUS 2021
TRANSP:TRANSPARENT
END:VEVENT
END:VCALENDAR
