BEGIN:VCALENDAR
PRODID:-//Secretariat of the European Council//DE
VERSION:2.0
METHOD:PUBLISH
BEGIN:VEVENT
DTSTART;TZID=Europe/Brussels:20211108T080000
DTEND;TZID=Europe/Brussels:20211110T170000
ORGANIZER;CN=Ministerium des Innern
UID:efb9479a-54e0-4edb-aae3-9687da2c3297
X-ALT-DESC;FMTTYPE=text/html:<!DOCTYPE HTML PUBLIC "-//W3C//DTD HTML 3.2//EN"><HTML><HEAD>
                                    </HEAD><BODY><span style="font-family: Open Sans;font-size: 9pt;"><p><b>VERANSTALTER</b><br>Ministerium des Innern</p><p><b>VERANSTALTUNGSORT</b><br>Grand Hotel Union</p><p><b>ADRESSE</b><br>Miklošičeva cesta 1<br>Ljubljana<br>Slowenien</p><p><a href="https://goo.gl/maps/38aGwKoCG3cEetKE9">Ort</a><hr><br>Mehr https://slovenian-presidency.consilium.europa.eu/de/veranstaltungen/treffen-der-gruppe-strafverfolgung-lewp-fur-telekommunikation/</span></BODY></HTML>
LOCATION:Miklošičeva cesta 1\,Ljubljana\,Slowenien
URL:https://slovenian-presidency.consilium.europa.eu/de/veranstaltungen/treffen-der-gruppe-strafverfolgung-lewp-fur-telekommunikation/
SEQUENCE:0
STATUS:CONFIRMED
SUMMARY:Treffen der Gruppe "Strafverfolgung" (LEWP) für Telekommunikation
TRANSP:TRANSPARENT
END:VEVENT
END:VCALENDAR
