BEGIN:VCALENDAR
PRODID:-//Secretariat of the European Council//DE
VERSION:2.0
METHOD:PUBLISH
BEGIN:VEVENT
DTSTART;TZID=Europe/Brussels:20211206T090000
DTEND;TZID=Europe/Brussels:20211207T140000
ORGANIZER;CN=Ministerium für öffentliche Verwaltung 
UID:8fa61fe9-a29e-46f0-ac94-7316cd78fe80
X-ALT-DESC;FMTTYPE=text/html:<!DOCTYPE HTML PUBLIC "-//W3C//DTD HTML 3.2//EN"><HTML><HEAD>
                                    </HEAD><BODY><span style="font-family: Open Sans;font-size: 9pt;"><p><b>VERANSTALTER</b><br>Ministerium für öffentliche Verwaltung </p><p><b>ADRESSE</b><br>Ljubljana<br>Slowenien</p><hr><br>Mehr https://slovenian-presidency.consilium.europa.eu/de/veranstaltungen/treffen-der-beraterinnen-und-berater-fur-telekommunikation-und-informationsgesellschaft/</span></BODY></HTML>
LOCATION:Ljubljana\,Slowenien
URL:https://slovenian-presidency.consilium.europa.eu/de/veranstaltungen/treffen-der-beraterinnen-und-berater-fur-telekommunikation-und-informationsgesellschaft/
SEQUENCE:0
STATUS:CONFIRMED
SUMMARY:Treffen der Beraterinnen und Berater für Telekommunikation und Informationsgesellschaft
TRANSP:TRANSPARENT
END:VEVENT
END:VCALENDAR
