BEGIN:VCALENDAR
PRODID:-//Secretariat of the European Council//DE
VERSION:2.0
METHOD:PUBLISH
BEGIN:VEVENT
DTSTART;TZID=Europe/Brussels:20210831T130000
DTEND;TZID=Europe/Brussels:20210831T180000
ORGANIZER;CN=Rat der Europäischen Union
UID:6240240a-dee2-4a1c-8508-5ac2d4d29837
X-ALT-DESC;FMTTYPE=text/html:<!DOCTYPE HTML PUBLIC "-//W3C//DTD HTML 3.2//EN"><HTML><HEAD>
                                    </HEAD><BODY><span style="font-family: Open Sans;font-size: 9pt;"><p><b>VERANSTALTER</b><br>Rat der Europäischen Union</p><p><b>VERANSTALTUNGSORT</b><br>Europa Building</p><p><b>ADRESSE</b><br>Rue de la Loi/Wetstraat 175<br>1048 Brüssel<br>Belgien</p><p><a href="https://goo.gl/maps/L1uUiTuhGPCmus336">Ort</a><hr><br>Mehr https://slovenian-presidency.consilium.europa.eu/de/veranstaltungen/rat-justiz-und-inneres/</span></BODY></HTML>
LOCATION:Rue de la Loi/Wetstraat 175\,1048 Brüssel\,Belgien
URL:https://slovenian-presidency.consilium.europa.eu/de/veranstaltungen/rat-justiz-und-inneres/
SEQUENCE:0
STATUS:CONFIRMED
SUMMARY:Rat (Justiz und Inneres)
TRANSP:TRANSPARENT
END:VEVENT
END:VCALENDAR
