BEGIN:VCALENDAR
PRODID:-//Secretariat of the European Council//DE
VERSION:2.0
METHOD:PUBLISH
BEGIN:VEVENT
DTSTART;TZID=Europe/Brussels:20211123T100000
DTEND;TZID=Europe/Brussels:20211123T180000
ORGANIZER;CN=Rat der Europäischen Union
UID:95034096-7e6b-46b4-9152-a7851d4fb0a8
X-ALT-DESC;FMTTYPE=text/html:<!DOCTYPE HTML PUBLIC "-//W3C//DTD HTML 3.2//EN"><HTML><HEAD>
                                    </HEAD><BODY><span style="font-family: Open Sans;font-size: 9pt;"><p><b>VERANSTALTER</b><br>Rat der Europäischen Union</p><p><b>VERANSTALTUNGSORT</b><br>Europa Building</p><p><b>ADRESSE</b><br>Rue de la Loi/Wetstraat 175<br>1048 Brüssel<br>Belgien</p><p><a href="https://bit.ly/3nq3Y5j">Ort</a><hr><br>Mehr https://slovenian-presidency.consilium.europa.eu/de/veranstaltungen/rat-allgemeine-angelegenheiten-23-11/</span></BODY></HTML>
LOCATION:Rue de la Loi/Wetstraat 175\,1048 Brüssel\,Belgien
URL:https://slovenian-presidency.consilium.europa.eu/de/veranstaltungen/rat-allgemeine-angelegenheiten-23-11/
SEQUENCE:0
STATUS:CONFIRMED
SUMMARY:Rat (Allgemeine Angelegenheiten)
TRANSP:TRANSPARENT
END:VEVENT
END:VCALENDAR
