BEGIN:VCALENDAR
PRODID:-//Secretariat of the European Council//DE
VERSION:2.0
METHOD:PUBLISH
BEGIN:VEVENT
DTSTART;TZID=Europe/Brussels:20211202T100000
DTEND;TZID=Europe/Brussels:20211202T180000
ORGANIZER;CN=Rat der Europäischen Union
UID:b66300cf-98e8-43dd-a387-e88b30586581
X-ALT-DESC;FMTTYPE=text/html:<!DOCTYPE HTML PUBLIC "-//W3C//DTD HTML 3.2//EN"><HTML><HEAD>
                                    </HEAD><BODY><span style="font-family: Open Sans;font-size: 9pt;"><p><b>VERANSTALTER</b><br>Rat der Europäischen Union</p><p><b>VERANSTALTUNGSORT</b><br>Justus Lipsius</p><p><b>ADRESSE</b><br>Rue de la Loi/Wetstraat 175 <br>1048 Brüssel<br>Belgien</p><p><a href="https://bit.ly/3eBdoag">Ort</a><hr><br>Mehr https://slovenian-presidency.consilium.europa.eu/de/veranstaltungen/politisches-und-sicherheitspolitisches-komitee-02-12/</span></BODY></HTML>
LOCATION:Rue de la Loi/Wetstraat 175 \,1048 Brüssel\,Belgien
URL:https://slovenian-presidency.consilium.europa.eu/de/veranstaltungen/politisches-und-sicherheitspolitisches-komitee-02-12/
SEQUENCE:0
STATUS:CONFIRMED
SUMMARY:Politisches und Sicherheitspolitisches Komitee
TRANSP:TRANSPARENT
END:VEVENT
END:VCALENDAR
