BEGIN:VCALENDAR
PRODID:-//Secretariat of the European Council//DE
VERSION:2.0
METHOD:PUBLISH
BEGIN:VEVENT
DTSTART;TZID=Europe/Brussels:20211111T190000
DTEND;TZID=Europe/Brussels:20211112T140000
ORGANIZER;CN=Ministerium des Innern
UID:f9c4d76d-8ec2-4724-9cf3-3f4452641467
X-ALT-DESC;FMTTYPE=text/html:<!DOCTYPE HTML PUBLIC "-//W3C//DTD HTML 3.2//EN"><HTML><HEAD>
                                    </HEAD><BODY><span style="font-family: Open Sans;font-size: 9pt;"><p><b>VERANSTALTER</b><br>Ministerium des Innern</p><p><b>VERANSTALTUNGSORT</b><br>JGZ Brdo</p><p><b>ADRESSE</b><br>Predoslje 39<br>Kranj<br>Slowenien</p><p><a href="https://goo.gl/maps/hFPouBQipfsM4j3J8">Ort</a><hr><br>Mehr https://slovenian-presidency.consilium.europa.eu/de/veranstaltungen/ministerkonferenz-uber-innere-angelegenheiten/</span></BODY></HTML>
LOCATION:Predoslje 39\,Kranj\,Slowenien
URL:https://slovenian-presidency.consilium.europa.eu/de/veranstaltungen/ministerkonferenz-uber-innere-angelegenheiten/
SEQUENCE:0
STATUS:CONFIRMED
SUMMARY:Ministerkonferenz über innere Angelegenheiten
TRANSP:TRANSPARENT
END:VEVENT
END:VCALENDAR
