BEGIN:VCALENDAR
PRODID:-//Secretariat of the European Council//DE
VERSION:2.0
METHOD:PUBLISH
BEGIN:VEVENT
DTSTART;TZID=Europe/Brussels:20211201T200000
DTEND;TZID=Europe/Brussels:20211203T170000
ORGANIZER;CN=Ministerium des Innern, Justizministerium
UID:23c44a2c-259c-4754-8474-2015d3585505
X-ALT-DESC;FMTTYPE=text/html:<!DOCTYPE HTML PUBLIC "-//W3C//DTD HTML 3.2//EN"><HTML><HEAD>
                                    </HEAD><BODY><span style="font-family: Open Sans;font-size: 9pt;"><p><b>VERANSTALTER</b><br>Ministerium des Innern, Justizministerium</p><p><b>VERANSTALTUNGSORT</b><br>JGZ Brdo</p><p><b>ADRESSE</b><br>Predoslje 39<br>Kranj<br>Slowenien</p><p><a href="https://goo.gl/maps/sy1FApJGUEkCPiEM8">Ort</a><hr><br>Mehr https://slovenian-presidency.consilium.europa.eu/de/veranstaltungen/ministerkonferenz-eu-westbalkan-im-bereich-justiz-und-inneres/</span></BODY></HTML>
LOCATION:Predoslje 39\,Kranj\,Slowenien
URL:https://slovenian-presidency.consilium.europa.eu/de/veranstaltungen/ministerkonferenz-eu-westbalkan-im-bereich-justiz-und-inneres/
SEQUENCE:0
STATUS:CONFIRMED
SUMMARY:Ministerkonferenz EU-Westbalkan im Bereich Justiz und Inneres
TRANSP:TRANSPARENT
END:VEVENT
END:VCALENDAR
