BEGIN:VCALENDAR
PRODID:-//Secretariat of the European Council//DE
VERSION:2.0
METHOD:PUBLISH
BEGIN:VEVENT
DTSTART;TZID=Europe/Brussels:20210924T083000
DTEND;TZID=Europe/Brussels:20210924T170000
ORGANIZER;CN=Ministerium für Bildung, Wissenschaft und Sport
UID:cc2f5ff5-7641-41c6-868b-7f43f8ac163d
X-ALT-DESC;FMTTYPE=text/html:<!DOCTYPE HTML PUBLIC "-//W3C//DTD HTML 3.2//EN"><HTML><HEAD>
                                    </HEAD><BODY><span style="font-family: Open Sans;font-size: 9pt;"><p><b>VERANSTALTER</b><br>Ministerium für Bildung, Wissenschaft und Sport</p><p><b>VERANSTALTUNGSORT</b><br>Rikli Balance Hotel</p><p><b>ADRESSE</b><br>Cankarjeva cesta 4<br>4260 Bled<br>Slowenien</p><p><a href="https://goo.gl/maps/er1LKp5Vp7BHsJd59">Ort</a><hr><br>Mehr https://slovenian-presidency.consilium.europa.eu/de/veranstaltungen/konferenz-lebenslange-korperliche-aktivitat/</span></BODY></HTML>
LOCATION:Cankarjeva cesta 4\,4260 Bled\,Slowenien
URL:https://slovenian-presidency.consilium.europa.eu/de/veranstaltungen/konferenz-lebenslange-korperliche-aktivitat/
SEQUENCE:0
STATUS:CONFIRMED
SUMMARY:Konferenz "Lebenslange körperliche Aktivität"
TRANSP:TRANSPARENT
END:VEVENT
END:VCALENDAR
