BEGIN:VCALENDAR
PRODID:-//Secretariat of the European Council//DE
VERSION:2.0
METHOD:PUBLISH
BEGIN:VEVENT
DTSTART;TZID=Europe/Brussels:20210708T090000
DTEND;TZID=Europe/Brussels:20210709T140000
ORGANIZER;CN=Ministerium für Arbeit, Familie, soziale Angelegenheiten und Chancengleichheit
UID:71f2de60-3f8a-4d22-a66b-27911c128b8e
X-ALT-DESC;FMTTYPE=text/html:<!DOCTYPE HTML PUBLIC "-//W3C//DTD HTML 3.2//EN"><HTML><HEAD>
                                    </HEAD><BODY><span style="font-family: Open Sans;font-size: 9pt;"><p><b>VERANSTALTER</b><br>Ministerium für Arbeit, Familie, soziale Angelegenheiten und Chancengleichheit</p><p><b>VERANSTALTUNGSORT</b><br>Kongresni center Brdo</p><p><b>ADRESSE</b><br>Predoslje 39<br>4000 Kranj<br>Slowenien</p><p><a href="https://goo.gl/maps/U2Ch8m77Xy6M6uNMA">Ort</a><hr><br>Mehr https://slovenian-presidency.consilium.europa.eu/de/veranstaltungen/informelle-tagung-der-ministerinnen-und-minister-fur-beschaftigung-und-soziale-angelegenheiten-08-09-07/</span></BODY></HTML>
LOCATION:Predoslje 39\,4000 Kranj\,Slowenien
URL:https://slovenian-presidency.consilium.europa.eu/de/veranstaltungen/informelle-tagung-der-ministerinnen-und-minister-fur-beschaftigung-und-soziale-angelegenheiten-08-09-07/
SEQUENCE:0
STATUS:CONFIRMED
SUMMARY:Informelle Tagung auf Ministerebene "Beschäftigung und Sozialpolitik"
TRANSP:TRANSPARENT
END:VEVENT
END:VCALENDAR
