BEGIN:VCALENDAR
PRODID:-//Secretariat of the European Council//DE
VERSION:2.0
METHOD:PUBLISH
BEGIN:VEVENT
DTSTART;TZID=Europe/Brussels:20210720T090000
DTEND;TZID=Europe/Brussels:20210721T133000
ORGANIZER;CN=Finanzministerium
UID:c038663d-dcae-4ded-83a2-1b9eb2910022
X-ALT-DESC;FMTTYPE=text/html:<!DOCTYPE HTML PUBLIC "-//W3C//DTD HTML 3.2//EN"><HTML><HEAD>
                                    </HEAD><BODY><span style="font-family: Open Sans;font-size: 9pt;"><p><b>VERANSTALTER</b><br>Finanzministerium</p><p><b>VERANSTALTUNGSORT</b><br>Grand Hotel Primus</p><p><b>ADRESSE</b><br>Pot v Toplice 9 <br>2251 Ptuj Ptuj<br>Slowenien</p><p><a href="https://goo.gl/maps/HxzU3NupQW51rAf17">Ort</a><hr><br>Mehr https://slovenian-presidency.consilium.europa.eu/de/veranstaltungen/hochrangiges-seminar-im-bereich-steuern-20-21-7/</span></BODY></HTML>
LOCATION:Pot v Toplice 9 \,2251 Ptuj Ptuj\,Slowenien
URL:https://slovenian-presidency.consilium.europa.eu/de/veranstaltungen/hochrangiges-seminar-im-bereich-steuern-20-21-7/
SEQUENCE:0
STATUS:CONFIRMED
SUMMARY:Hochrangiges Seminar im Bereich Steuern
TRANSP:TRANSPARENT
END:VEVENT
END:VCALENDAR
