BEGIN:VCALENDAR
PRODID:-//Secretariat of the European Council//DE
VERSION:2.0
METHOD:PUBLISH
BEGIN:VEVENT
DTSTART;TZID=Europe/Brussels:20211108T080000
DTEND;TZID=Europe/Brussels:20211112T170000
ORGANIZER;CN=Verteidigungsministerium
UID:af55449d-3a51-4863-b32d-b3684d38d901
X-ALT-DESC;FMTTYPE=text/html:<!DOCTYPE HTML PUBLIC "-//W3C//DTD HTML 3.2//EN"><HTML><HEAD>
                                    </HEAD><BODY><span style="font-family: Open Sans;font-size: 9pt;"><p><b>VERANSTALTER</b><br>Verteidigungsministerium</p><p><b>VERANSTALTUNGSORT</b><br>Kadetnica</p><p><b>ADRESSE</b><br>Maribor<br>Slowenien</p><p><a href="https://goo.gl/maps/yoAD72DvyxcUoKh4A">Ort</a><hr><br>Mehr https://slovenian-presidency.consilium.europa.eu/de/veranstaltungen/hochrangige-ausbildung-uber-europaische-sicherheits-und-verteidigungspolitik-modul-2-eu-kapazitaten-fur-krisenmanagement/</span></BODY></HTML>
LOCATION:Maribor\,Slowenien
URL:https://slovenian-presidency.consilium.europa.eu/de/veranstaltungen/hochrangige-ausbildung-uber-europaische-sicherheits-und-verteidigungspolitik-modul-2-eu-kapazitaten-fur-krisenmanagement/
SEQUENCE:0
STATUS:CONFIRMED
SUMMARY:Hochrangige Ausbildung über europäische Sicherheits- und Verteidigungspolitik, Modul 2: EU-Kapazitäten für Krisenmanagement
TRANSP:TRANSPARENT
END:VEVENT
END:VCALENDAR
