BEGIN:VCALENDAR
PRODID:-//Secretariat of the European Council//DE
VERSION:2.0
METHOD:PUBLISH
BEGIN:VEVENT
DTSTART;TZID=Europe/Brussels:20210708T090000
DTEND;TZID=Europe/Brussels:20210709T142000
ORGANIZER;CN=Ministerium für Gesundheitswesen
UID:2b68df70-b50b-4b73-8d62-dec2f653cc21
X-ALT-DESC;FMTTYPE=text/html:<!DOCTYPE HTML PUBLIC "-//W3C//DTD HTML 3.2//EN"><HTML><HEAD>
                                    </HEAD><BODY><span style="font-family: Open Sans;font-size: 9pt;"><p><b>VERANSTALTER</b><br>Ministerium für Gesundheitswesen</p><p><b>ADRESSE</b><br>Videokonferenz</p><hr><br>Mehr https://slovenian-presidency.consilium.europa.eu/de/veranstaltungen/gemeinsames-treffen-der-generaldirektorinnen-und-direktoren-fur-arzneimittelpolitik-und-des-pharmazeutischen-ausschusses-8-7/</span></BODY></HTML>
LOCATION:Videokonferenz
URL:https://slovenian-presidency.consilium.europa.eu/de/veranstaltungen/gemeinsames-treffen-der-generaldirektorinnen-und-direktoren-fur-arzneimittelpolitik-und-des-pharmazeutischen-ausschusses-8-7/
SEQUENCE:0
STATUS:CONFIRMED
SUMMARY:Gemeinsames Treffen der Generaldirektorinnen und ‑direktoren für Arzneimittelpolitik und des Pharmazeutischen Ausschusses
TRANSP:TRANSPARENT
END:VEVENT
END:VCALENDAR
