BEGIN:VCALENDAR
PRODID:-//Secretariat of the European Council//DE
VERSION:2.0
METHOD:PUBLISH
BEGIN:VEVENT
DTSTART;TZID=Europe/Brussels:20211116T150000
DTEND;TZID=Europe/Brussels:20211117T170000
ORGANIZER;CN=Ministerium für wirtschaftliche Entwicklung und Technologie
UID:7de816ae-f34a-409a-a5bb-b6c1f0fcba2f
X-ALT-DESC;FMTTYPE=text/html:<!DOCTYPE HTML PUBLIC "-//W3C//DTD HTML 3.2//EN"><HTML><HEAD>
                                    </HEAD><BODY><span style="font-family: Open Sans;font-size: 9pt;"><p><b>VERANSTALTER</b><br>Ministerium für wirtschaftliche Entwicklung und Technologie</p><p><b>VERANSTALTUNGSORT</b><br>JGZ Brdo</p><p><b>ADRESSE</b><br>Predoslje 39<br>Kranj<br>Slowenien</p><p><a href="https://goo.gl/maps/oR8GBicsXFLnaJmG7">Ort</a><hr><br>Mehr https://slovenian-presidency.consilium.europa.eu/de/veranstaltungen/europaisches-tourismusforum-mit-einer-informellen-tagung-der-ministerinnen-und-minister-fur-tourismus/</span></BODY></HTML>
LOCATION:Predoslje 39\,Kranj\,Slowenien
URL:https://slovenian-presidency.consilium.europa.eu/de/veranstaltungen/europaisches-tourismusforum-mit-einer-informellen-tagung-der-ministerinnen-und-minister-fur-tourismus/
SEQUENCE:0
STATUS:CONFIRMED
SUMMARY:Europäisches Tourismusforum mit einer informellen Tagung der Ministerinnen und Minister für Tourismus
TRANSP:TRANSPARENT
END:VEVENT
END:VCALENDAR
