BEGIN:VCALENDAR
PRODID:-//Secretariat of the European Council//DE
VERSION:2.0
METHOD:PUBLISH
BEGIN:VEVENT
DTSTART;TZID=Europe/Brussels:20211110T100000
DTEND;TZID=Europe/Brussels:20211111T180000
ORGANIZER;CN=Europäisches Parlament 
UID:bff6f4d7-f2da-4526-8e16-1c44720cf87d
X-ALT-DESC;FMTTYPE=text/html:<!DOCTYPE HTML PUBLIC "-//W3C//DTD HTML 3.2//EN"><HTML><HEAD>
                                    </HEAD><BODY><span style="font-family: Open Sans;font-size: 9pt;"><p><b>VERANSTALTER</b><br>Europäisches Parlament </p><p><b>VERANSTALTUNGSORT</b><br>Espace Léopold</p><p><b>ADRESSE</b><br>Rue Wiertz 60<br>1047 Brüssel<br>Belgien</p><p><a href="https://goo.gl/maps/LBALMZtriAvDC5fn7">Ort</a><hr><br>Mehr https://slovenian-presidency.consilium.europa.eu/de/veranstaltungen/europaisches-parlament-plenartagung-10-11-11/</span></BODY></HTML>
LOCATION:Rue Wiertz 60\,1047 Brüssel\,Belgien
URL:https://slovenian-presidency.consilium.europa.eu/de/veranstaltungen/europaisches-parlament-plenartagung-10-11-11/
SEQUENCE:0
STATUS:CONFIRMED
SUMMARY:Europäisches Parlament – Plenartagung
TRANSP:TRANSPARENT
END:VEVENT
END:VCALENDAR
