BEGIN:VCALENDAR
PRODID:-//Secretariat of the European Council//DE
VERSION:2.0
METHOD:PUBLISH
BEGIN:VEVENT
DTSTART;TZID=Europe/Brussels:20211126T090000
DTEND;TZID=Europe/Brussels:20211126T180000
ORGANIZER;CN=Johan Skytte Institut für politische Studien, Universität Tartu, kofinanziert von der Europäischen Kommission, unter der Schirmherrschaft des slowenischen EU-Ratsvorsitzes
UID:23aed79e-41a7-4ee8-961b-9dcf9b21ac67
X-ALT-DESC;FMTTYPE=text/html:<!DOCTYPE HTML PUBLIC "-//W3C//DTD HTML 3.2//EN"><HTML><HEAD>
                                    </HEAD><BODY><span style="font-family: Open Sans;font-size: 9pt;"><p><b>VERANSTALTER</b><br>Johan Skytte Institut für politische Studien, Universität Tartu, kofinanziert von der Europäischen Kommission, unter der Schirmherrschaft des slowenischen EU-Ratsvorsitzes</p><p><b>VERANSTALTUNGSORT</b><br>Univerza v Tartuju, Center Delta</p><p><b>ADRESSE</b><br>Narva mnt 18<br>51009 Tartu Tartu<br>Estland</p><p><a href="https://goo.gl/maps/5VLpQMhZSDiyg6vn7">Ort</a><hr><br>Mehr https://slovenian-presidency.consilium.europa.eu/de/veranstaltungen/die-3-e-demokratie-e-governance-konferenz-der-ostlichen-partnerschaft-desinformation-im-digitalen-zeitalter/</span></BODY></HTML>
LOCATION:Narva mnt 18\,51009 Tartu Tartu\,Estland
URL:https://slovenian-presidency.consilium.europa.eu/de/veranstaltungen/die-3-e-demokratie-e-governance-konferenz-der-ostlichen-partnerschaft-desinformation-im-digitalen-zeitalter/
SEQUENCE:0
STATUS:CONFIRMED
SUMMARY:Die 3. E-Demokratie- / E-Governance-Konferenz der Östlichen Partnerschaft „Desinformation im digitalen Zeitalter“
TRANSP:TRANSPARENT
END:VEVENT
END:VCALENDAR
