BEGIN:VCALENDAR
PRODID:-//Secretariat of the European Council//DE
VERSION:2.0
METHOD:PUBLISH
BEGIN:VEVENT
DTSTART;TZID=Europe/Brussels:20211111T130000
DTEND;TZID=Europe/Brussels:20211112T130000
ORGANIZER;CN=Ministerium für auswärtige Angelegenheiten
UID:026bd992-3e86-4413-9197-8691e8f29b74
X-ALT-DESC;FMTTYPE=text/html:<!DOCTYPE HTML PUBLIC "-//W3C//DTD HTML 3.2//EN"><HTML><HEAD>
                                    </HEAD><BODY><span style="font-family: Open Sans;font-size: 9pt;"><p><b>VERANSTALTER</b><br>Ministerium für auswärtige Angelegenheiten</p><p><b>ADRESSE</b><br>Ljubljana<br>Slowenien</p><hr><br>Mehr https://slovenian-presidency.consilium.europa.eu/de/veranstaltungen/beginn-der-22-ausgabe-des-europaischen-diplomatischen-programms-unter-dem-titel-starkung-der-resilienz-der-eu-und-ihrer-strategischen-autonomie/</span></BODY></HTML>
LOCATION:Ljubljana\,Slowenien
URL:https://slovenian-presidency.consilium.europa.eu/de/veranstaltungen/beginn-der-22-ausgabe-des-europaischen-diplomatischen-programms-unter-dem-titel-starkung-der-resilienz-der-eu-und-ihrer-strategischen-autonomie/
SEQUENCE:0
STATUS:CONFIRMED
SUMMARY:Beginn der 22. Ausgabe des Europäischen diplomatischen Programms unter dem Titel "Stärkung der Resilienz der EU und ihrer strategischen Autonomie"
TRANSP:TRANSPARENT
END:VEVENT
END:VCALENDAR
