BEGIN:VCALENDAR
PRODID:-//Secretariat of the European Council//DE
VERSION:2.0
METHOD:PUBLISH
BEGIN:VEVENT
DTSTART;TZID=Europe/Brussels:20211110T080000
DTEND;TZID=Europe/Brussels:20211112T170000
ORGANIZER;CN=Justizministerium
UID:4783d8ec-2535-4f15-aae3-093c97004d51
X-ALT-DESC;FMTTYPE=text/html:<!DOCTYPE HTML PUBLIC "-//W3C//DTD HTML 3.2//EN"><HTML><HEAD>
                                    </HEAD><BODY><span style="font-family: Open Sans;font-size: 9pt;"><p><b>VERANSTALTER</b><br>Justizministerium</p><p><b>VERANSTALTUNGSORT</b><br>Hotel Union</p><p><b>ADRESSE</b><br>Miklošičeva 1<br>Ljubljana<br>Slowenien</p><p><a href="https://goo.gl/maps/38aGwKoCG3cEetKE9">Ort</a><hr><br>Mehr https://slovenian-presidency.consilium.europa.eu/de/veranstaltungen/83-treffen-der-kontaktstellen-des-europaischen-justiziellen-netzes-und-zentralen-behorden-sowie-die-konferenz-uber-die-ubertragung-der-neufassung-der-brussel-iia-verordnung-und-deren-umsetzung/</span></BODY></HTML>
LOCATION:Miklošičeva 1\,Ljubljana\,Slowenien
URL:https://slovenian-presidency.consilium.europa.eu/de/veranstaltungen/83-treffen-der-kontaktstellen-des-europaischen-justiziellen-netzes-und-zentralen-behorden-sowie-die-konferenz-uber-die-ubertragung-der-neufassung-der-brussel-iia-verordnung-und-deren-umsetzung/
SEQUENCE:0
STATUS:CONFIRMED
SUMMARY:83. Treffen der Kontaktstellen des Europäischen Justiziellen Netzes und Zentralen Behörden sowie die Konferenz über die Übertragung der Neufassung der Brüssel-IIa-Verordnung und deren Umsetzung
TRANSP:TRANSPARENT
END:VEVENT
END:VCALENDAR
